BEGIN:VCALENDAR
VERSION:2.0
CALSCALE:GREGORIAN
PRODID:-//Diputació de Barcelona//DibaCMS//EN
BEGIN:VEVENT
UID:1443
DTSTAMP:20260424T154859
DTSTART:20240507T092500
DTEND:20240507T092500
SUMMARY:Caixer mòbil Diputació de Barcelona 07-05-2024 a les 9:25 h a l'Ajuntament de Sagàs
LOCATION:
METHOD:PUBLISH
X-WR-CALNAME:sagas@sagas.cat
X-WR-TIMEZONE:Europe/Madrid
DESCRIPTION:
URI:https://www.sagas.cat/actualitat/agenda/caixer-mobil-diputacio-de-barcelona-07-05-2024-a-les-925-h-a-lajuntament-de-sagas.html
CLASS:PUBLIC
END:VEVENT
END:VCALENDAR
